BEGIN:VCALENDAR
VERSION:2.0
PRODID:-//Химический факультет ЮФУ//NONSGML kigkonsult.se iCalcreator 2.30.
 10//
CALSCALE:GREGORIAN
METHOD:PUBLISH
UID:c55cedd6-3d95-4dc4-8b1d-7ad68488f2c2
X-WR-CALNAME:iCagenda
X-WR-CALDESC:Event Management Extension for Joomla!
X-WR-RELCALID:3E26604A-50F4-4449-8B3E-E4F4932D05B5
X-WR-TIMEZONE:Europe/Moscow
BEGIN:VTIMEZONE
TZID:Europe/Moscow
BEGIN:STANDARD
TZNAME:MSK
DTSTART:20160120T210000
TZOFFSETFROM:+0000
TZOFFSETTO:+0300
END:STANDARD
END:VTIMEZONE
BEGIN:VEVENT
UID:c49ec15b-37e7-41a4-9f31-713a429f0fcb
DTSTAMP:20260419T232502Z
CATEGORIES:События
CLASS:PUBLIC
DESCRIPTION;ALTREP="CID:<FFFF__=0ABBE548DFE235B58f9e8a93d@coffeebean.com>":
 НЕДЕЛЯ АКАДЕМИЧЕСКОЙ МОБИЛЬНОСТИ
DTSTART:20171022T210000Z
DTEND:20171027T210000Z
GEO:00;0
LOCATION:
ORGANIZER:
SEQUENCE:1
SUMMARY:Неделя академической мобильности
TRANSP:OPAQUE
URL:https://chimfak.sfedu.ru/faculty/sobytiya-i-meropriyatiya/2-nedelya-aka
 demicheskoj-mobilnosti
END:VEVENT
END:VCALENDAR
